View In:
ArcGIS JavaScript
ArcGIS Online Map Viewer
ArcGIS Earth
ArcMap
View Footprint In:
ArcGIS Online Map Viewer
Service Description: Bildflugdatum: 09.04.2019 Bodenauflösung: 5 cm Längsüberdeckung: 60 % Querüberdeckung: 60 % Mittlere Flughöhe: 2.700 ft
Name: _UTM_Dr_Haller_DOP
Description: Bildflugdatum: 09.04.2019 Bodenauflösung: 5 cm Längsüberdeckung: 60 % Querüberdeckung: 60 % Mittlere Flughöhe: 2.700 ft
Single Fused Map Cache: false
Extent:
XMin: 522634.3
YMin: 6067002.45
XMax: 539501.3
YMax: 6081510
Spatial Reference: 25832
(25832)
Initial Extent:
XMin: 522634.3
YMin: 6067002.45
XMax: 539501.3
YMax: 6081510
Spatial Reference: 25832
(25832)
Full Extent:
XMin: 522634.3
YMin: 6067002.45
XMax: 539501.3
YMax: 6081510
Spatial Reference: 25832
(25832)
Pixel Size X: 0.05000000000000017
Pixel Size Y: 0.04999999999999936
Band Count: 3
Pixel Type: U8
RasterFunction Infos: {"rasterFunctionInfos": [{
"name": "None",
"description": "",
"help": ""
}]}
Mensuration Capabilities: Basic
Has Histograms: true
Has Colormap: false
Has Multi Dimensions : false
Rendering Rule:
Min Scale: 0
Max Scale: 0
Copyright Text: 2019 Hansa Luftbild
Service Data Type: esriImageServiceDataTypeRGB
Min Values: 0, 0, 0
Max Values: 255, 255, 255
Mean Values: 102.53295192612859, 103.66379437919093, 92.39968972072296
Standard Deviation Values: 39.52950326464753, 34.91688741698295, 33.06186892296168
Object ID Field:
Fields:
None
Default Mosaic Method: Center
Allowed Mosaic Methods:
SortField:
SortValue: null
Mosaic Operator: First
Default Compression Quality: 75
Default Resampling Method: Bilinear
Max Record Count: null
Max Image Height: 4100
Max Image Width: 15000
Max Download Image Count: null
Max Mosaic Image Count: null
Allow Raster Function: true
Allow Copy: null
Allow Analysis: null
Allow Compute TiePoints: false
Supports Statistics: false
Supports Advanced Queries: false
Use StandardizedQueries: true
Raster Type Infos:
Name: Raster Dataset
Description: Supports all ArcGIS Raster Datasets
Help:
Has Raster Attribute Table: false
Edit Fields Info: null
Ownership Based AccessControl For Rasters: null
Child Resources:
Info
Histograms
Key Properties
Legend
Raster Function Infos
Supported Operations:
Export Image
Identify
Measure
Compute Histograms
Compute Statistics Histograms
Get Samples
Compute Class Statistics
Query Boundary
Compute Pixel Location
Compute Angles
Validate
Project