{
 "currentVersion": 10.91,
 "serviceDescription": "Bildflugdatum: 09.04.2019 Bodenauflösung: 5 cm Längsüberdeckung: 60 % Querüberdeckung: 60 % Mittlere Flughöhe: 2.700 ft ",
 "name": "_UTM_Dr_Haller_DOP",
 "description": "Bildflugdatum: 09.04.2019 Bodenauflösung: 5 cm Längsüberdeckung: 60 % Querüberdeckung: 60 % Mittlere Flughöhe: 2.700 ft ",
 "extent": {
  "xmin": 522634.3,
  "ymin": 6067002.45,
  "xmax": 539501.3,
  "ymax": 6081510,
  "spatialReference": {
   "wkid": 25832,
   "latestWkid": 25832
  }
 },
 "initialExtent": {
  "xmin": 522634.3,
  "ymin": 6067002.45,
  "xmax": 539501.3,
  "ymax": 6081510,
  "spatialReference": {
   "wkid": 25832,
   "latestWkid": 25832
  }
 },
 "fullExtent": {
  "xmin": 522634.3,
  "ymin": 6067002.45,
  "xmax": 539501.3,
  "ymax": 6081510,
  "spatialReference": {
   "wkid": 25832,
   "latestWkid": 25832
  }
 },
 "pixelSizeX": 0.05000000000000017,
 "pixelSizeY": 0.04999999999999936,
 "bandCount": 3,
 "pixelType": "U8",
 "minPixelSize": 0,
 "maxPixelSize": 0,
 "copyrightText": "2019 Hansa Luftbild",
 "serviceDataType": "esriImageServiceDataTypeRGB",
 "minValues": [
  0,
  0,
  0
 ],
 "maxValues": [
  255,
  255,
  255
 ],
 "meanValues": [
  102.53295192612859,
  103.66379437919093,
  92.39968972072296
 ],
 "stdvValues": [
  39.52950326464753,
  34.91688741698295,
  33.06186892296168
 ],
 "objectIdField": "",
 "fields": [],
 "capabilities": "Mensuration,Image,Metadata",
 "defaultMosaicMethod": "Center",
 "allowedMosaicMethods": "",
 "sortField": "",
 "sortValue": null,
 "sortAscending": true,
 "mosaicOperator": "First",
 "defaultCompressionQuality": 75,
 "defaultResamplingMethod": "Bilinear",
 "maxImageHeight": 4100,
 "maxImageWidth": 15000,
 "allowRasterFunction": true,
 "rasterFunctionInfos": [
  {
   "name": "None",
   "description": "",
   "help": ""
  }
 ],
 "rasterTypeInfos": [
  {
   "name": "Raster Dataset",
   "description": "Supports all ArcGIS Raster Datasets",
   "help": ""
  }
 ],
 "mensurationCapabilities": "Basic",
 "hasHistograms": true,
 "hasColormap": false,
 "hasRasterAttributeTable": false,
 "minScale": 0,
 "maxScale": 0,
 "exportTilesAllowed": false,
 "hasMultidimensions": false,
 "supportsStatistics": false,
 "supportsAdvancedQueries": false,
 "editFieldsInfo": null,
 "ownershipBasedAccessControlForRasters": null,
 "allowComputeTiePoints": false,
 "useStandardizedQueries": true,
 "advancedQueryCapabilities": {
  "useStandardizedQueries": true,
  "supportsStatistics": false,
  "supportsOrderBy": false,
  "supportsDistinct": false,
  "supportsPagination": false
 },
 "spatialReference": {
  "wkid": 25832,
  "latestWkid": 25832
 }
}
